BEGIN:VCALENDAR
VERSION:2.0
PRODID:-//Mother Earth - ECPv6.0.13.1//NONSGML v1.0//EN
CALSCALE:GREGORIAN
METHOD:PUBLISH
X-ORIGINAL-URL:https://motherearth.co.uk
X-WR-CALDESC:Events for Mother Earth
REFRESH-INTERVAL;VALUE=DURATION:PT1H
X-Robots-Tag:noindex
X-PUBLISHED-TTL:PT1H
BEGIN:VTIMEZONE
TZID:Europe/London
BEGIN:DAYLIGHT
TZOFFSETFROM:+0000
TZOFFSETTO:+0100
TZNAME:BST
DTSTART:20230326T010000
END:DAYLIGHT
BEGIN:STANDARD
TZOFFSETFROM:+0100
TZOFFSETTO:+0000
TZNAME:GMT
DTSTART:20231029T010000
END:STANDARD
END:VTIMEZONE
BEGIN:VEVENT
DTSTART;TZID=Europe/London:20230528T140000
DTEND;TZID=Europe/London:20230528T160000
DTSTAMP:20260422T104443
CREATED:20230428T152656Z
LAST-MODIFIED:20230504T094017Z
UID:10000100-1685282400-1685289600@motherearth.co.uk
SUMMARY:Foraging walk with Rebecca
DESCRIPTION:Wonderful weeds.  Enjoy fresh air\, beautiful views and discover some often overlooked edible and wild plants. Many you might recognise as weeds in your garden or parks.
URL:https://motherearth.co.uk/event/foraging-walk-with-rebecca/2023-05-28/
END:VEVENT
BEGIN:VEVENT
DTSTART;TZID=Europe/London:20230507T140000
DTEND;TZID=Europe/London:20230507T160000
DTSTAMP:20260422T104443
CREATED:20230428T152656Z
LAST-MODIFIED:20230504T094017Z
UID:10000014-1683468000-1683475200@motherearth.co.uk
SUMMARY:Foraging walk with Rebecca
DESCRIPTION:Wonderful weeds.  Enjoy fresh air\, beautiful views and discover some often overlooked edible and wild plants. Many you might recognise as weeds in your garden or parks.
URL:https://motherearth.co.uk/event/foraging-walk-with-rebecca/2023-05-07/
END:VEVENT
END:VCALENDAR